BEGIN:VCALENDAR
VERSION:2.0
PRODID:-//Astro en Val - ECPv6.15.20//NONSGML v1.0//EN
CALSCALE:GREGORIAN
METHOD:PUBLISH
X-WR-CALNAME:Astro en Val
X-ORIGINAL-URL:https://astroenval.fr
X-WR-CALDESC:Évènements pour Astro en Val
REFRESH-INTERVAL;VALUE=DURATION:PT1H
X-Robots-Tag:noindex
X-PUBLISHED-TTL:PT1H
BEGIN:VTIMEZONE
TZID:Europe/Paris
BEGIN:DAYLIGHT
TZOFFSETFROM:+0100
TZOFFSETTO:+0200
TZNAME:CEST
DTSTART:20210328T010000
END:DAYLIGHT
BEGIN:STANDARD
TZOFFSETFROM:+0200
TZOFFSETTO:+0100
TZNAME:CET
DTSTART:20211031T010000
END:STANDARD
BEGIN:DAYLIGHT
TZOFFSETFROM:+0100
TZOFFSETTO:+0200
TZNAME:CEST
DTSTART:20220327T010000
END:DAYLIGHT
BEGIN:STANDARD
TZOFFSETFROM:+0200
TZOFFSETTO:+0100
TZNAME:CET
DTSTART:20221030T010000
END:STANDARD
BEGIN:DAYLIGHT
TZOFFSETFROM:+0100
TZOFFSETTO:+0200
TZNAME:CEST
DTSTART:20230326T010000
END:DAYLIGHT
BEGIN:STANDARD
TZOFFSETFROM:+0200
TZOFFSETTO:+0100
TZNAME:CET
DTSTART:20231029T010000
END:STANDARD
END:VTIMEZONE
BEGIN:VEVENT
DTSTART;TZID=Europe/Paris:20220910T213000
DTEND;TZID=Europe/Paris:20220911T000000
DTSTAMP:20260422T150324
CREATED:20220908T120216Z
LAST-MODIFIED:20220908T120216Z
UID:646-1662845400-1662854400@astroenval.fr
SUMMARY:Soirée découverte de la lune
DESCRIPTION:A l’occasion de la pleine lune\, venez découvrir la lune\, ses cratères et ses mers. \nEssayez vous à l’astrophoto et repartez avec votre photo de la lune au format numérique. \nJupiter et Saturne seront aussi au rendez-vous!
URL:https://astroenval.fr/event/soiree-decouverte-de-la-lune/
LOCATION:Astro en Val\, 17 Rue Joubert\, Lailly En Val\, 45740
CATEGORIES:Astro Découverte
ATTACH;FMTTYPE=image/jpeg:https://astroenval.fr/wp-content/uploads/2022/09/Flyer_evenement.jpg
END:VEVENT
END:VCALENDAR