BEGIN:VCALENDAR
VERSION:2.0
PRODID:-//Astro en Val - ECPv6.15.20//NONSGML v1.0//EN
CALSCALE:GREGORIAN
METHOD:PUBLISH
X-WR-CALNAME:Astro en Val
X-ORIGINAL-URL:https://astroenval.fr
X-WR-CALDESC:Évènements pour Astro en Val
REFRESH-INTERVAL;VALUE=DURATION:PT1H
X-Robots-Tag:noindex
X-PUBLISHED-TTL:PT1H
BEGIN:VTIMEZONE
TZID:Europe/Paris
BEGIN:DAYLIGHT
TZOFFSETFROM:+0100
TZOFFSETTO:+0200
TZNAME:CEST
DTSTART:20220327T010000
END:DAYLIGHT
BEGIN:STANDARD
TZOFFSETFROM:+0200
TZOFFSETTO:+0100
TZNAME:CET
DTSTART:20221030T010000
END:STANDARD
BEGIN:DAYLIGHT
TZOFFSETFROM:+0100
TZOFFSETTO:+0200
TZNAME:CEST
DTSTART:20230326T010000
END:DAYLIGHT
BEGIN:STANDARD
TZOFFSETFROM:+0200
TZOFFSETTO:+0100
TZNAME:CET
DTSTART:20231029T010000
END:STANDARD
BEGIN:DAYLIGHT
TZOFFSETFROM:+0100
TZOFFSETTO:+0200
TZNAME:CEST
DTSTART:20240331T010000
END:DAYLIGHT
BEGIN:STANDARD
TZOFFSETFROM:+0200
TZOFFSETTO:+0100
TZNAME:CET
DTSTART:20241027T010000
END:STANDARD
END:VTIMEZONE
BEGIN:VEVENT
DTSTART;TZID=Europe/Paris:20230809T210000
DTEND;TZID=Europe/Paris:20230810T020000
DTSTAMP:20260421T204140
CREATED:20230728T115148Z
LAST-MODIFIED:20230803T063431Z
UID:973-1691614800-1691632800@astroenval.fr
SUMMARY:Nuit des étoiles 2023
DESCRIPTION:La Nuits des étoiles est une occasion unique de découvrir le ciel avec l’aide d’animateurs passionnés. C’est le meilleur moment de l’année pour observer les étoiles filantes. Tout le monde y est le bienvenue l’évènement est gratuit. Vous pouvez venir avec vos instruments si vous en avez pour profiter de notre expertise. L’évènement se déroulera autour de l’étang de Lailly-en-Val toute la soirée jusque dans la nuit.
URL:https://astroenval.fr/event/nuit-des-etoiles-2023/
LOCATION:Étang de lailly-en-Val\, 1 place de l'église\, Lailly-en-Val\, 45740\, France
CATEGORIES:Astro Découverte
ATTACH;FMTTYPE=image/png:https://astroenval.fr/wp-content/uploads/2023/07/nuit-des-etoiles-2023-Lailly-en-val.png
ORGANIZER;CN="Club d'astronomie Astro en Val":MAILTO:infos@astroenval.fr
END:VEVENT
END:VCALENDAR