BEGIN:VCALENDAR
VERSION:2.0
PRODID:-//Astro en Val - ECPv6.15.20//NONSGML v1.0//EN
CALSCALE:GREGORIAN
METHOD:PUBLISH
X-ORIGINAL-URL:https://astroenval.fr
X-WR-CALDESC:Évènements pour Astro en Val
REFRESH-INTERVAL;VALUE=DURATION:PT1H
X-Robots-Tag:noindex
X-PUBLISHED-TTL:PT1H
BEGIN:VTIMEZONE
TZID:Europe/Paris
BEGIN:DAYLIGHT
TZOFFSETFROM:+0100
TZOFFSETTO:+0200
TZNAME:CEST
DTSTART:20220327T010000
END:DAYLIGHT
BEGIN:STANDARD
TZOFFSETFROM:+0200
TZOFFSETTO:+0100
TZNAME:CET
DTSTART:20221030T010000
END:STANDARD
BEGIN:DAYLIGHT
TZOFFSETFROM:+0100
TZOFFSETTO:+0200
TZNAME:CEST
DTSTART:20230326T010000
END:DAYLIGHT
BEGIN:STANDARD
TZOFFSETFROM:+0200
TZOFFSETTO:+0100
TZNAME:CET
DTSTART:20231029T010000
END:STANDARD
BEGIN:DAYLIGHT
TZOFFSETFROM:+0100
TZOFFSETTO:+0200
TZNAME:CEST
DTSTART:20240331T010000
END:DAYLIGHT
BEGIN:STANDARD
TZOFFSETFROM:+0200
TZOFFSETTO:+0100
TZNAME:CET
DTSTART:20241027T010000
END:STANDARD
END:VTIMEZONE
BEGIN:VEVENT
DTSTART;TZID=Europe/Paris:20231104T140000
DTEND;TZID=Europe/Paris:20231104T160000
DTSTAMP:20260421T163302
CREATED:20231016T094731Z
LAST-MODIFIED:20231016T094732Z
UID:1015-1699106400-1699113600@astroenval.fr
SUMMARY:Exoplanètes\, les chasseurs de mondes
DESCRIPTION:Venez participer et échanger sur le thème des exoplanètes à 14h00 le Samedi 4 Novembre 2023 à la salle Val Sologne à Lailly-en-Val.\n\nL’évènement accessible à tout public et il n’est pas nécessaire d’avoir des connaissances particulières tout vous sera expliqué de la façon la plus simple possible.\nComment les identifier\, comment les trouver\, combien il en existe\, autant de questions qui trouverons des réponses.\nNous diffuserons un documentaire exclusif sur un grand écran intitulé « Chasseur de mondes » avec les explications de Michel Mayor (Découvreur de la première exoplanète\, prix Nobel de physique 2019) et le point de vue d’Alexandre Astier féru d’astrophysique.\n\nBien que l’évènement soit public si vous n’êtes pas membre du club il vous sera demandé une cotisation de 5€ par personne.\nGratuit pour les adhérents d’Astro en Val
URL:https://astroenval.fr/event/exoplanetes-les-chasseurs-de-mondes/
LOCATION:Val Sologne\, 20 Rue de la Mairie\, Lailly-en-Val\, 45740\, France
CATEGORIES:Astro Découverte
ATTACH;FMTTYPE=image/png:https://astroenval.fr/wp-content/uploads/2023/10/exoplanetes.png
END:VEVENT
END:VCALENDAR