BEGIN:VCALENDAR
VERSION:2.0
PRODID:-//Astro en Val - ECPv6.15.20//NONSGML v1.0//EN
CALSCALE:GREGORIAN
METHOD:PUBLISH
X-ORIGINAL-URL:https://astroenval.fr
X-WR-CALDESC:Évènements pour Astro en Val
REFRESH-INTERVAL;VALUE=DURATION:PT1H
X-Robots-Tag:noindex
X-PUBLISHED-TTL:PT1H
BEGIN:VTIMEZONE
TZID:Europe/Paris
BEGIN:DAYLIGHT
TZOFFSETFROM:+0100
TZOFFSETTO:+0200
TZNAME:CEST
DTSTART:20210328T010000
END:DAYLIGHT
BEGIN:STANDARD
TZOFFSETFROM:+0200
TZOFFSETTO:+0100
TZNAME:CET
DTSTART:20211031T010000
END:STANDARD
BEGIN:DAYLIGHT
TZOFFSETFROM:+0100
TZOFFSETTO:+0200
TZNAME:CEST
DTSTART:20220327T010000
END:DAYLIGHT
BEGIN:STANDARD
TZOFFSETFROM:+0200
TZOFFSETTO:+0100
TZNAME:CET
DTSTART:20221030T010000
END:STANDARD
BEGIN:DAYLIGHT
TZOFFSETFROM:+0100
TZOFFSETTO:+0200
TZNAME:CEST
DTSTART:20230326T010000
END:DAYLIGHT
BEGIN:STANDARD
TZOFFSETFROM:+0200
TZOFFSETTO:+0100
TZNAME:CET
DTSTART:20231029T010000
END:STANDARD
END:VTIMEZONE
BEGIN:VEVENT
DTSTART;TZID=Europe/Paris:20220822T220000
DTEND;TZID=Europe/Paris:20220823T020000
DTSTAMP:20260422T150531
CREATED:20220824T102226Z
LAST-MODIFIED:20220827T095703Z
UID:504-1661205600-1661220000@astroenval.fr
SUMMARY:Soirée Astro Découverte
DESCRIPTION:Venez découvrir le ciel d’été et ses constellations. \nDécouvrez les différents instruments pour observer et leurs spécificités.\nVenez observer dans nos instruments pour découvrir Saturne et Jupiter. \nProfitez d’un bon moment pour échanger avec notre équipe en sirotant une citronnade maison.
URL:https://astroenval.fr/event/soiree-astro-decouverte/
LOCATION:Astro en Val\, 17 Rue Joubert\, Lailly En Val\, 45740
CATEGORIES:Astro Découverte
ATTACH;FMTTYPE=image/png:https://astroenval.fr/wp-content/uploads/2022/08/soiree_decouverte_2.png
ORGANIZER;CN="Club d'astronomie Astro en Val":MAILTO:infos@astroenval.fr
END:VEVENT
END:VCALENDAR