BEGIN:VCALENDAR
VERSION:2.0
PRODID:-//Astro en Val - ECPv6.15.20//NONSGML v1.0//EN
CALSCALE:GREGORIAN
METHOD:PUBLISH
X-ORIGINAL-URL:https://astroenval.fr
X-WR-CALDESC:Évènements pour Astro en Val
REFRESH-INTERVAL;VALUE=DURATION:PT1H
X-Robots-Tag:noindex
X-PUBLISHED-TTL:PT1H
BEGIN:VTIMEZONE
TZID:Europe/Paris
BEGIN:DAYLIGHT
TZOFFSETFROM:+0100
TZOFFSETTO:+0200
TZNAME:CEST
DTSTART:20210328T010000
END:DAYLIGHT
BEGIN:STANDARD
TZOFFSETFROM:+0200
TZOFFSETTO:+0100
TZNAME:CET
DTSTART:20211031T010000
END:STANDARD
BEGIN:DAYLIGHT
TZOFFSETFROM:+0100
TZOFFSETTO:+0200
TZNAME:CEST
DTSTART:20220327T010000
END:DAYLIGHT
BEGIN:STANDARD
TZOFFSETFROM:+0200
TZOFFSETTO:+0100
TZNAME:CET
DTSTART:20221030T010000
END:STANDARD
BEGIN:DAYLIGHT
TZOFFSETFROM:+0100
TZOFFSETTO:+0200
TZNAME:CEST
DTSTART:20230326T010000
END:DAYLIGHT
BEGIN:STANDARD
TZOFFSETFROM:+0200
TZOFFSETTO:+0100
TZNAME:CET
DTSTART:20231029T010000
END:STANDARD
END:VTIMEZONE
BEGIN:VEVENT
DTSTART;TZID=Europe/Paris:20221008T210000
DTEND;TZID=Europe/Paris:20221008T233000
DTSTAMP:20260422T121231
CREATED:20221019T123450Z
LAST-MODIFIED:20221019T132429Z
UID:818-1665262800-1665271800@astroenval.fr
SUMMARY:Soirée Astro Découverte
DESCRIPTION:Pour cette nouvelle soirée Astro Découverte\, venez essayer de faire des photos de la lune avec votre smartphone\, on fourni le matériel pour l’occasion. \nVous pourrez aussi observer Saturne et Jupiter qui sont encore visible ainsi que la grande galaxie d’Andromède.
URL:https://astroenval.fr/event/soiree-astro-decouverte-2/
LOCATION:Astro en Val\, 17 Rue Joubert\, Lailly En Val\, 45740
CATEGORIES:Astro Découverte
ATTACH;FMTTYPE=image/jpeg:https://astroenval.fr/wp-content/uploads/2022/10/310799513_10223242580120962_8608221319112904326_n.jpg
ORGANIZER;CN="Club d'astronomie Astro en Val":MAILTO:infos@astroenval.fr
END:VEVENT
END:VCALENDAR