BEGIN:VCALENDAR
VERSION:2.0
PRODID:-//Astro en Val - ECPv6.15.20//NONSGML v1.0//EN
CALSCALE:GREGORIAN
METHOD:PUBLISH
X-WR-CALNAME:Astro en Val
X-ORIGINAL-URL:https://astroenval.fr
X-WR-CALDESC:Évènements pour Astro en Val
REFRESH-INTERVAL;VALUE=DURATION:PT1H
X-Robots-Tag:noindex
X-PUBLISHED-TTL:PT1H
BEGIN:VTIMEZONE
TZID:Europe/Paris
BEGIN:DAYLIGHT
TZOFFSETFROM:+0100
TZOFFSETTO:+0200
TZNAME:CEST
DTSTART:20220327T010000
END:DAYLIGHT
BEGIN:STANDARD
TZOFFSETFROM:+0200
TZOFFSETTO:+0100
TZNAME:CET
DTSTART:20221030T010000
END:STANDARD
BEGIN:DAYLIGHT
TZOFFSETFROM:+0100
TZOFFSETTO:+0200
TZNAME:CEST
DTSTART:20230326T010000
END:DAYLIGHT
BEGIN:STANDARD
TZOFFSETFROM:+0200
TZOFFSETTO:+0100
TZNAME:CET
DTSTART:20231029T010000
END:STANDARD
BEGIN:DAYLIGHT
TZOFFSETFROM:+0100
TZOFFSETTO:+0200
TZNAME:CEST
DTSTART:20240331T010000
END:DAYLIGHT
BEGIN:STANDARD
TZOFFSETFROM:+0200
TZOFFSETTO:+0100
TZNAME:CET
DTSTART:20241027T010000
END:STANDARD
END:VTIMEZONE
BEGIN:VEVENT
DTSTART;TZID=Europe/Paris:20230902T100000
DTEND;TZID=Europe/Paris:20230902T160000
DTSTAMP:20260421T174848
CREATED:20230901T082546Z
LAST-MODIFIED:20230901T082546Z
UID:1004-1693648800-1693670400@astroenval.fr
SUMMARY:Forum des Associations 2023
DESCRIPTION:Venez nous rencontrez et adhérer à notre club d’Astronomie de Lailly-en-Val. \nLa cotisation s’élève à 15€ par personne et 25€ par famille (enfants/parents). \nAstroenval est membre de l’Association Française d’Astronomie.
URL:https://astroenval.fr/event/forum-des-associations-2023/
LOCATION:Lisotte\, Chemin des amandiers\, Lailly-en-Val\, 45740
CATEGORIES:Administratif
ATTACH;FMTTYPE=image/jpeg:https://astroenval.fr/wp-content/uploads/2023/09/Forum_page-0001.jpg
ORGANIZER;CN="Club d'astronomie Astro en Val":MAILTO:infos@astroenval.fr
END:VEVENT
END:VCALENDAR