BEGIN:VCALENDAR
VERSION:2.0
PRODID:-//Astro en Val - ECPv6.15.20//NONSGML v1.0//EN
CALSCALE:GREGORIAN
METHOD:PUBLISH
X-ORIGINAL-URL:https://astroenval.fr
X-WR-CALDESC:Évènements pour Astro en Val
REFRESH-INTERVAL;VALUE=DURATION:PT1H
X-Robots-Tag:noindex
X-PUBLISHED-TTL:PT1H
BEGIN:VTIMEZONE
TZID:Europe/Paris
BEGIN:DAYLIGHT
TZOFFSETFROM:+0100
TZOFFSETTO:+0200
TZNAME:CEST
DTSTART:20230326T010000
END:DAYLIGHT
BEGIN:STANDARD
TZOFFSETFROM:+0200
TZOFFSETTO:+0100
TZNAME:CET
DTSTART:20231029T010000
END:STANDARD
BEGIN:DAYLIGHT
TZOFFSETFROM:+0100
TZOFFSETTO:+0200
TZNAME:CEST
DTSTART:20240331T010000
END:DAYLIGHT
BEGIN:STANDARD
TZOFFSETFROM:+0200
TZOFFSETTO:+0100
TZNAME:CET
DTSTART:20241027T010000
END:STANDARD
BEGIN:DAYLIGHT
TZOFFSETFROM:+0100
TZOFFSETTO:+0200
TZNAME:CEST
DTSTART:20250330T010000
END:DAYLIGHT
BEGIN:STANDARD
TZOFFSETFROM:+0200
TZOFFSETTO:+0100
TZNAME:CET
DTSTART:20251026T010000
END:STANDARD
END:VTIMEZONE
BEGIN:VEVENT
DTSTART;TZID=Europe/Paris:20240316T140000
DTEND;TZID=Europe/Paris:20240316T170000
DTSTAMP:20260421T100022
CREATED:20240305T094736Z
LAST-MODIFIED:20240305T094736Z
UID:1154-1710597600-1710608400@astroenval.fr
SUMMARY:Formation Photographie / Astrophotographie
DESCRIPTION:Formation photographie et astrophotographie organisée par Arnaud Girault\, photographe professionnel et astrophotographe confirmé.\nVenez découvrir les techniques de photographie afin de tirer le meilleur de votre appareil photo. Apprenez à photographier la voie lactée ou simplement des paysages ou faire des portraits réussis.\nN’hésitez pas à venir avec votre appareil photo afin qu’Arnaud puisse vous aider à le maitriser.\nPensez à vous inscrire sur le site https://astroenval.fr\nPensez à votre carte d’adhérent\, si vous n’en avez pas vous pourrez adhérer à l’association sur place.
URL:https://astroenval.fr/event/formation-photographie-astrophotographie/
LOCATION:Val Sologne\, 20 Rue de la Mairie\, Lailly-en-Val\, 45740\, France
CATEGORIES:Formation Astrophoto
ATTACH;FMTTYPE=image/png:https://astroenval.fr/wp-content/uploads/2024/03/formation_astrophoto.png
END:VEVENT
END:VCALENDAR